BEGIN:VCALENDAR
VERSION:2.0
PRODID:-//Plone.org//NONSGML plone.app.event//EN
X-WR-TIMEZONE:US/Eastern
BEGIN:VEVENT
SUMMARY:Library Board Meeting
DTSTART;TZID=US/Eastern:20230214T190000
DTEND;TZID=US/Eastern:20230214T200000
DTSTAMP:20260423T101915Z
UID:1dd6371f1df748fb95835a4282cf1989@saas_stack_varnish:6080
RRULE:FREQ=MONTHLY;COUNT=12;BYDAY=+2TU
RDATE;TZID=US/Eastern:20230919T000000
EXDATE;TZID=US/Eastern:20230912T000000
CREATED:20230203T190443Z
LAST-MODIFIED:20230203T190451Z
URL:https://www.hopkinspl.michlibrary.org/news-events/lib-cal/library-boar
 d-meeting-1
END:VEVENT
BEGIN:VTIMEZONE
TZID:US/Eastern
X-LIC-LOCATION:US/Eastern
BEGIN:STANDARD
DTSTART:20221106T010000
TZNAME:EST
TZOFFSETFROM:-0400
TZOFFSETTO:-0500
END:STANDARD
END:VTIMEZONE
END:VCALENDAR
